BEGIN:VCALENDAR
VERSION:2.0
METHOD:PUBLISH
X-WR-CALNAME:Mercociudades |  mayo 27 2014- mayo 27 2014
PRODID:-//strange bird labs//Drupal iCal API//EN
BEGIN:VEVENT
DTSTAMP;VALUE=DATE-TIME:20260420T121925Z
DTSTART;VALUE=DATE-TIME:20140526T162000Z
DTEND;VALUE=DATE-TIME:20020203
UID:http://www.mercociudades.net/node/4711
URL;VALUE=URI:http://www.mercociudades.net/node/4711
SUMMARY:Reunión de la Unidad Temática de Ambiente y Desarrollo Sostenible\, en el marco del “III Foro Latinoamericano de Desarrollo Sostenible”
DESCRIPTION:<p>Rosario\, Argentina.</p>
 <p>Contactos\:&nbsp\;ambiente@mercociudades.org - <a href=\\"mailto\:lautarolorenzo1973@hotmail.com\\">lautarolorenzo1973@hotmail.com</a></p>
 
END:VEVENT
END:VCALENDAR
